BEGIN:VCALENDAR
PRODID:-//eluceo/ical//2.0/EN
VERSION:2.0
CALSCALE:GREGORIAN
BEGIN:VEVENT
UID:8bdbf0da265ed0a1047064625b8ec687
DTSTAMP:20260420T160123Z
SUMMARY:EU-Innovationsfonds: Die NKS IF informiert – Financial Fiche
DESCRIPTION:Wie lassen sich die finanzielle Reife eines Projekts in der sog
 enannten „Financial Fiche“ überzeugend darstellen und damit die Erfol
 gschancen im EU-Innovationsfonds erhöhen?
DTSTART:20260528T100000
DTEND:20260528T110000
LOCATION:
END:VEVENT
END:VCALENDAR
